BEGIN:VCALENDAR
VERSION:2.0
PRODID:-//wp-events-plugin.com//7.2.3.1//EN
BEGIN:VEVENT
UID:103@meinseenland.de
DTSTART:20250726T193000Z
DTEND:20250726T235900Z
DTSTAMP:20250709T133831Z
URL:https://www.meinseenland.de/events/stoerzelbacher-strings-open-air-im-
 steinbruch-weissenburg/
SUMMARY:Störzelbacher & Strings Open-Air im Steinbruch Weißenburg
DESCRIPTION:Am 26. Juli ab 14 Uhr laden wir Sie herzlich zu unserem großen
  Familienfest im Steinbruch des Schotter- und Steinwerks Weißenburg ein! 
 Freuen Sie sich auf einen spannenden Nachmittag mit Kinder-Rallye\, Bühne
 nprogramm\, leckerem Essen und beeindruckender Baumaschinenausstellung –
  ein Tag voller Erlebnisse für die ganze Familie. Krönender Abschluss is
 t am Abend ein unvergessliches Open-Air-Konzert mit den Störzelbacher and
  Strings in einzigartiger\, beleuchteter Steinbruchkulisse!
CATEGORIES:Konzert/Festival
LOCATION:Steinbruch Weißenburg\, Eichstätter Landstraße 55\, Weißenburg
  i. Bay.\, 91781\, Deutschland
X-APPLE-STRUCTURED-LOCATION;VALUE=URI;X-ADDRESS=Eichstätter Landstraße 55
 \, Weißenburg i. Bay.\, 91781\, Deutschland;X-APPLE-RADIUS=100;X-TITLE=St
 einbruch Weißenburg:geo:0,0
END:VEVENT
END:VCALENDAR