BEGIN:VCALENDAR
VERSION:2.0
PRODID:-//wp-events-plugin.com//7.2.3.1//EN
BEGIN:VEVENT
UID:164@meinseenland.de
DTSTART:20260313T200000Z
DTEND:20260313T230000Z
DTSTAMP:20260227T121607Z
URL:https://www.meinseenland.de/events/sternenbeobachtung-5/
SUMMARY:Sternenbeobachtung
DESCRIPTION:Neben den monatlichen Treffen und den Sternenbeobachtungen hat 
 der Verein eine Sternwarte im Fränkischen Seenland errichtet.\nBesucher k
 önnen durch die Instrumente der Sternwarte blicken. Dabei werden interess
 ante astronomische Objekte wie z.B. Planeten\, Sternhaufen\, Gasnebel\, Ga
 laxien gezeigt und Erläuterungen dazu gegeben. Gerne gehen wir auch auf d
 ie Fragen zur Astronomie ein.\nDie Sternenbeobachtung findet bei klarem Hi
 mmel auf der Sternwarte statt.\nDie Sternwarte kann nicht direkt mit dem P
 KW angefahren werden. Da die letzten Meter (ca. 5 Minuten Fußweg) ab der 
 Parkmöglichkeit auf einem unbeleuchteten Weg zurückgelegt werden müssen
 \, ist eine Taschenlampe empfehlenswert. Bitte auch auf entsprechende Klei
 dung achten. Die Teilnahme erfolgt auf eigene Gefahr.
CATEGORIES:Sonstiges Event
LOCATION:Sternwarte Ramsberg\, Sternwarte Ramsberg\, Ramsberg\, 91785\, Deu
 tschland
X-APPLE-STRUCTURED-LOCATION;VALUE=URI;X-ADDRESS=Sternwarte Ramsberg\, Ramsb
 erg\, 91785\, Deutschland;X-APPLE-RADIUS=100;X-TITLE=Sternwarte Ramsberg:g
 eo:0,0
END:VEVENT
END:VCALENDAR