BEGIN:VCALENDAR
VERSION:2.0
PRODID:-//wp-events-plugin.com//7.2.3.1//EN
BEGIN:VEVENT
UID:167@meinseenland.de
DTSTART:20260322T080000Z
DTEND:20260322T170000Z
DTSTAMP:20260227T121802Z
URL:https://www.meinseenland.de/events/spalter-mittfastenmarkt/
SUMMARY:Spalter Mittfastenmarkt
DESCRIPTION:Flohmarkt - Trödelmarkt - Jahrmarkt\nFinden oder Verkaufen Sie
  von 08.00 Uhr bis 17.00 Uhr Ihre gebrauchten Schätze direkt unter freien
  Himmel in der schönen\, historischen Spalter Innenstadt.\nWir freuen uns
  über Ihren Besuch in Spalt.\nEin Teil der Spalter Geschäfte hat geöffn
 et.\nTip: Besuchen Sie die Erlebniswelt HopfenBierGut im Kornhaus der Stad
 t Spalt geöffnet am Sonntag 10 - 17 Uhr mit öffentlicher Museumsführung
  um 11 Uhr.\n
CATEGORIES:Markt
LOCATION:Altstadt (Spalt)\, Ortsmitte\, Spalt\, 91174\, Deutschland
X-APPLE-STRUCTURED-LOCATION;VALUE=URI;X-ADDRESS=Ortsmitte\, Spalt\, 91174\,
  Deutschland;X-APPLE-RADIUS=100;X-TITLE=Altstadt (Spalt):geo:0,0
END:VEVENT
END:VCALENDAR