BEGIN:VCALENDAR
VERSION:2.0
PRODID:-//wp-events-plugin.com//7.2.3.1//EN
BEGIN:VEVENT
UID:105@meinseenland.de
DTSTART:20250802T190000Z
DTEND:20250802T233000Z
DTSTAMP:20250731T114514Z
URL:https://www.meinseenland.de/events/see-in-flammen-altmuehlsee/
SUMMARY:See in Flammen - Altmühlsee
DESCRIPTION:Ein faszinierendes Erlebnis ist die Sommerveranstaltung See in
  Flammen am Altmühlsee.\nFackelschwimmer\, beleuchtete Segelboote\, eine 
 illuminierte MS Altmühlsee und der Höhepunkt\, ein Barock-Höhenfeuerwer
 k mit Musik bieten ein unvergessliches Erlebnis.\nLocation:\nSeezentrum Sc
 hlungenhof:\n\n\n 	Live-Musik mit Michael Fischer - eine außergewöhnlich
 e Stimme und musikalisches Talent der besonderen Art - eine hervorragende 
 Live-Präsenz mit riesigem Repertoire\n 	Beleuchtete Segelboote\n 	Fackels
 chwimmer\,\n 	Kulinarische Verwöhnprogramm mit regionalen Spezialitäten
 \n\nSeezentrum Wald:\n\n\n 	Live-Musik mit den Beer-Belly-Bouncers\n 	Bele
 uchtete Segelboote\,\n 	Großer Strandbereich\n 	Kulinarische Schmankerl\n
 \nSurfzentrum Schlungenhof:\n\n\n 	Gemütlich – genussvoll – romantisc
 h\n\nMS Altmühlsee - der Kartenvorverkauf ist aktuell beendet. \n\n\n 	
 eine illuminierte Schifffahrt zur Veranstaltung See in Flammen - Kartenvor
 verkauf beim Zweckverband Altmühlsee\, Marktplatz 25\, 91710 Gunzenhausen
 \, Tel.: 09831/508-191\n\nFür Wasserfreunde bietet die MS Altmühlsee zu 
 dieser Veranstaltung eine reizvolle Alternative. Zum Preis von 45\,00 EUR 
 bieten wir Ihnen eine mehrstündige Schifffahrt umrahmt von beleuchteten S
 egelbooten. Dazu servieren wir ein mediterranes Buffet.\nDer Höhepunkt is
 t um ca. 22.45 Uhr das Barockfeuerwerk von der Seeseite.\nBitte beachten S
 ie die Parkplatzgebühren in Höhe von 5\,-- Euro an diesem Abend:\nam S
 eezentrum Schlungenhof\nam Surfzentrum Schlungenhof und\nam Seezentrum Wal
 d.
CATEGORIES:Sonstiges Event
LOCATION:Seezentrum Schlungenhof\, Seestraße\, Gunzenhausen\, 91710\, Deut
 schland
X-APPLE-STRUCTURED-LOCATION;VALUE=URI;X-ADDRESS=Seestraße\, Gunzenhausen\,
  91710\, Deutschland;X-APPLE-RADIUS=100;X-TITLE=Seezentrum Schlungenhof:ge
 o:0,0
END:VEVENT
END:VCALENDAR