BEGIN:VCALENDAR
VERSION:2.0
PRODID:-//wp-events-plugin.com//7.2.3.1//EN
BEGIN:VEVENT
UID:140@meinseenland.de
DTSTART:20251129T150000Z
DTEND:20251130T223000Z
DTSTAMP:20251030T153127Z
URL:https://www.meinseenland.de/events/hilpoltsteiner-weihnachtsmarkt/
SUMMARY:Hilpoltsteiner Weihnachtsmarkt
DESCRIPTION:Am ersten Adventswochenende lockt der beschauliche Hilpoltstein
 er Weihnachtsmarkt inmitten seiner Fachwerkhäuser die Menschen wieder auf
  den Marktplatz zu den liebevoll geschmückten Buden mit warmem Punsch\, l
 eckerem Essen und hübschen Geschenken: am Samstag von 15:00 bis 22:30 Uhr
  und am Sonntag von 14:00 bis 19:00 Uhr.\nVorweihnachtliche Klänge gehen 
 mit Musik\, Tanz und Gesang vieler verschiedener Gruppen von der Bühne 
 aus. Sie verleihen dem Hilpoltsteiner Weihnachtsmarkt seine besondere Atmo
 sphäre. Das Hilpoltsteiner Christkind spricht am Samstagnachmittag sein
 en Prolog vom Fenster des Rathauses herab. Danach gesellt es sich zu den K
 indern\, nimmt Wunschzettel entgegen und verteilt kleine Geschenke. Der N
 ikolaus kommt am Sonntagnachmittag nach Hilpoltstein. Er bringt eine Weih
 nachtsgeschichte für die Kinder mit und natürlich auch Nüsse und Schoko
 lade.\nUnter den "Sternen-Hütten" auf dem Platz vor der Residenz verbre
 itet insbesondere ein „Weihnachtsschaufenster“ vorweihnachtliche Stimm
 ung: Nostalgischer Weihnachtsschmuck und eine kleine fahrende Eisenbahn so
 rgen an dieser Hütte für strahlende Kinderaugen. Hier können die Kinder
  auch ihre Sternenpost aufgeben\, also ihre Wunschzettel an das Christkind
  in den Himmelsbriefkasten werfen. Mit etwas Glück kann man auch bei der 
 alljährlichen Weihnachtsverlosung des Gewerbevereins pluspol am Sonntag
 nachmittag auf der Bühne etwas gewinnen.\nViele weitere Hütten des Wei
 hnachtsmarktes auf dem Marktplatz lassen keinen Wunsch offen. In allen 
 Buden stehen zahlreiche Ehrenamtliche\, um für ihren Verein\, ihre Gruppe
 \, Schule oder ihren Kindergarten etwas Gebasteltes\, Gebackenes\, Gekocht
 es\, Gestricktes usw. usf. anzubieten. Ein Besuch auf dem Hilpoltsteiner W
 eihnachtsmarkt dient damit auch immer einem guten Zweck. Darüber hinaus l
 ädt die gemütliche "Hirtenweihnacht" in den Hof "Schwarzes Ross" ein
 . Hier können Kinder nicht nur Schafe streicheln\, sondern auch Weihnacht
 sgeschichten lauschen. Beim Weihnachtsflohmarkt lassen sich hübsche Weihn
 achtsartikel aus zweiter Hand erstehen.\nÖffnungszeiten des Hilpoltsteine
 r Weihnachtsmarktes: \nSamstag\, 29. November 2025 von 15:00 bis 22:00 Uh
 r\nSonntag\, 30. November 2025 von 14:00 bis 19:00 Uhr
CATEGORIES:Markt
LOCATION:Marktplatz Hilpoltstein\, Marktstraße\, Hilpoltstein\, 91161\, De
 utschland
X-APPLE-STRUCTURED-LOCATION;VALUE=URI;X-ADDRESS=Marktstraße\, Hilpoltstein
 \, 91161\, Deutschland;X-APPLE-RADIUS=100;X-TITLE=Marktplatz Hilpoltstein:
 geo:0,0
END:VEVENT
END:VCALENDAR