BEGIN:VCALENDAR
VERSION:2.0
PRODID:-//wp-events-plugin.com//7.2.3.1//EN
BEGIN:VEVENT
UID:38@meinseenland.de
DTSTART:20250331T170000Z
DTEND:20250331T190000Z
DTSTAMP:20250221T084428Z
URL:https://www.meinseenland.de/events/hexen-henker-hinrichtungen/
SUMMARY:Hexen\, Henker\, Hinrichtungen
DESCRIPTION:Begehbare Geschichte Gunzenhausens\, von der Antike in die Neuz
 eit\, spannend und haarsträubend. Von Folterknechten in der Fronveste\, d
 em Ritter zu Füßen eines Heiligen un der Hebamme am Pranger.\n\n&nbsp\;\
 n\nPreis\n\nRegulär: 6\,- €\nErmäßigt: 4\,- €\n5\,- €/Erw. mit Se
 enland.Card. Kinder bis 14 Jahre frei\nAnmeldung nicht erforderlich\n\n\n\
 n\n\n\n\n\n\n\n\n\n\n\n\n\n\n
CATEGORIES:Sonstiges Event
LOCATION:Tourist Information Stadt Gunzenhausen\, Rathausstraße 12\, Gunze
 nhausen\, 91710\, Deutschland
X-APPLE-STRUCTURED-LOCATION;VALUE=URI;X-ADDRESS=Rathausstraße 12\, Gunzenh
 ausen\, 91710\, Deutschland;X-APPLE-RADIUS=100;X-TITLE=Tourist Information
  Stadt Gunzenhausen:geo:0,0
END:VEVENT
END:VCALENDAR