BEGIN:VCALENDAR
VERSION:2.0
PRODID:-//wp-events-plugin.com//7.2.3.1//EN
BEGIN:VEVENT
UID:94@meinseenland.de
DTSTART:20250626T140000Z
DTEND:20250626T183000Z
DTSTAMP:20250630T085019Z
URL:https://www.meinseenland.de/events/familientag-im-weissenburger-steinb
 ruch/
SUMMARY:Familientag im Weißenburger Steinbruch
DESCRIPTION:\n\n\n\nAm 26. Juli ab 14 Uhr laden wir Sie herzlich zu unserem
  großen Familienfest im Steinbruch des Schotter- und Steinwerks Weißenbu
 rg ein! Freuen Sie sich auf einen spannenden Nachmittag mit Kinder-Rallye\
 , Bühnenprogramm\, leckerem Essen und beeindruckender Baumaschinenausstel
 lung – ein Tag voller Erlebnisse für die ganze Familie. Krönender Absc
 hluss ist am Abend ein unvergessliches Open-Air-Konzert mit den Störzelba
 cher and Strings in einzigartiger\, beleuchteter Steinbruchkulisse!\n\nGü
 nstiges Speisenangebot:\n\nZum Familiennachmittag bieten wir ein vergünst
 igtes Speisenangebot an:\n\n 	3 x Zwickte Bratwurst   9 Euro\n 	Döner 
   6 Euro\n 	Nuggets mit Pommes   4\,5 Euro\n 	Zuckerwatte    1 Euro
 \n 	Popcorn   1 Euro\n\nAperol-Happy-Hour:\nVon 19:30 Uhr bis 21:00 Uhr 
 gibt es den Aperol für unschlagbare 3\,50 € – nur solange der Vorrat 
 reicht!\n\nVeranstaltungsort:\nSchotter- und Steinwerk Weißenburg GmbH &a
 mp\; Co. KG\nEichstätter Landstraße 55\, 91781 Weißenburg\n\nDatum &amp
 \; Uhrzeit:\nSamstag\, 26. Juli\, ab 14 Uhr\n\nDer Eintritt ist frei!\n\n\
 n\n
CATEGORIES:Sonstiges Event
LOCATION:Steinbruch Weißenburg\, Eichstätter Landstraße 55\, Weißenburg
  i. Bay.\, 91781\, Deutschland
X-APPLE-STRUCTURED-LOCATION;VALUE=URI;X-ADDRESS=Eichstätter Landstraße 55
 \, Weißenburg i. Bay.\, 91781\, Deutschland;X-APPLE-RADIUS=100;X-TITLE=St
 einbruch Weißenburg:geo:0,0
END:VEVENT
END:VCALENDAR