BEGIN:VCALENDAR
VERSION:2.0
PRODID:-//wp-events-plugin.com//7.2.3.1//EN
BEGIN:VEVENT
UID:173@meinseenland.de
DTSTART:20260426T110000Z
DTEND:20260426T170000Z
DTSTAMP:20260331T134045Z
URL:https://www.meinseenland.de/events/entdecke-den-brombachsee-familienta
 g/
SUMMARY:Entdecke den Brombachsee - Familientag
DESCRIPTION:Der Winter ist endlich vorbei - also nichts wie raus in die fre
 ie Natur! Mit dem Familien-Erlebnistag "Entdecke den Brombachsee" wird der
  Frühling eingeläutet. An diesem Tag zeigt sich die Region als riesiger 
 Outdoor-Abenteuerspielplatz für Familien und Kinder. Erleben\, Entdecken 
 und Ausprobieren lautet das Motto! Rund um den See gibt es spezielle Famil
 ienangebote mit Sport\, Spielen\, Kultur und Erlebnissen für jedes Alter\
 ; vom Bogenschießen über Mountainbike-Parcours bis zum Stand Up Paddling
 . Ausgerüstet mit einer großen Erlebnis-Schatzkarte geht es mit dem Schi
 ff oder Fahrrad von einer Station zur nächsten - und am Ende gibt es die 
 Große Schatzsuche um 16.00 Uhr an allen vier Standorten am Strand mit tol
 len Gewinnen für die ganze Familie. Verschiedene Standorte am Großen und
  Kleinen Brombachsee (u.a. Badehalbinsel Absberg\, Langlau\, Enderndorf\, 
 Ramsberg)\, Fahrgast-Trimaran MS-Brombachsee. Parkgebühren und Schifffahr
 t sind kostenpflichtig. Aktionen Preis auf Anfrage.
CATEGORIES:Sonstiges Event
LOCATION:Brombachsee\, Rund um den Brombachsee\, kein fester Ort\, Deutschl
 and
X-APPLE-STRUCTURED-LOCATION;VALUE=URI;X-ADDRESS=Rund um den Brombachsee\, k
 ein fester Ort\, Deutschland;X-APPLE-RADIUS=100;X-TITLE=Brombachsee:geo:0,
 0
END:VEVENT
END:VCALENDAR