BEGIN:VCALENDAR
VERSION:2.0
PRODID:-//wp-events-plugin.com//7.2.3.1//EN
BEGIN:VEVENT
UID:128@meinseenland.de
DTSTART:20251102T110000Z
DTEND:20251102T160000Z
DTSTAMP:20251030T145027Z
URL:https://www.meinseenland.de/events/drachenfest-am-altmuehlsee/
SUMMARY:Drachenfest am Altmühlsee
DESCRIPTION:Das Drachenfest für die Familie - Eintritt frei\nMit Beginn de
 r bayrischen Herbstferien gibt es am Altmühlsee eine bunte Familienverans
 taltung\, das Familiendrachenfest. In familiärer Atmosphäre können di
 e verschiedenen Drachen in die Lüfte steigen. Der Zweckverband Altmühlse
 e hat eigens für diese Veranstaltung direkt an den Seewiesen Flächen von
  ca. 30.000 qm zum Drachensteigen abgeflattert und entsprechend vorbereite
 t. Bis zu 500 Meter können die Drachen in die Lüfte steigen.\nTolles Mit
 mach-Programm mit:\n⇒ dem Landesbund für Vogelschutz: der Traum vom Fl
 iegen\n⇒ Freestyle-Frisbee Alpenprise: Vorführungen und Workshop\nFasz
 inierendes Aktions-Programm mit:\n⇒ dem Spaßkoffer: Comedy und Jonglag
 e\n⇒ Zirkusschule Windspiel: Stelzenläufer und Akrobatik\nKinderattrak
 tionen:\n⇒ Kinderschminken\n⇒ Glitzer- und Hennatatoos\n⇒ Drachenlad
 en - Kite and Bike\nGastronomie:\n⇒ vor Ort\n⇒ von herzhaft bis veg
 etarisch\n⇒ von Kaffeevariationen bis coole Kinderdrinks\n\nParken\nAm 
 Seezentrum Schlungenhof stehen ausreichend kostenpflichtige Parkplätze zu
 r Verfügung. Auch die Parkplätze am Surfzentrum Schlungenhof können jed
 erzeit genutzt werden.\n
CATEGORIES:Sonstiges Event
LOCATION:Seezentrum Schlungenhof\, Seestraße\, Gunzenhausen\, 91710\, Deut
 schland
X-APPLE-STRUCTURED-LOCATION;VALUE=URI;X-ADDRESS=Seestraße\, Gunzenhausen\,
  91710\, Deutschland;X-APPLE-RADIUS=100;X-TITLE=Seezentrum Schlungenhof:ge
 o:0,0
END:VEVENT
END:VCALENDAR