BEGIN:VCALENDAR
VERSION:2.0
PRODID:-//wp-events-plugin.com//7.2.3.1//EN
BEGIN:VEVENT
UID:137@meinseenland.de
DTSTART;VALUE=DATE:20251129
DTEND;VALUE=DATE:20251201
DTSTAMP:20251030T152017Z
URL:https://www.meinseenland.de/events/der-spalter-weihnachtsmarkt/
SUMMARY:Der Spalter Weihnachtsmarkt
DESCRIPTION:Der Weihnachtsmarkt mit dem Gewissen Etwas mehr…\nSPALT – a
 m 1.Adventwochenende: Ein Weihnachtsmarkt mit zauberhaftem Charme\nSpalter
  Weihnachtsmarkt: Am 1. Adventwochenende verwandelt sich die Altstadt von 
 Spalt wieder in einen der stimmungsvollsten Weihnachtsmärkte der Region. 
 Unter dem Motto „Weihnachtsmarkt mit dem gewissen Etwas“ erwartet die 
 Besucher ein einmaliges Erlebnis voller Besinnlichkeit und weihnachtlichem
  Glanz. Zahlreiche Aussteller präsentieren handgefertigte Waren\, kulinar
 ische Köstlichkeiten und kreative Geschenkideen. Lassen Sie sich von der 
 besinnlichen Atmosphäre verzaubern und auf die Adventszeit einstimmen.\nA
 uch wenn in diesem Jahr aufgrund von Bauarbeiten an der Hauptstraße einig
 e der traditionellen Spalter Keller leider geschlossen bleiben müssen\, w
 ird die festliche Atmosphäre des Marktes nicht beeinträchtigt. Die Ausst
 eller\, die sonst in den Kellern zu finden wären\, werden in anderen male
 rischen Gassen der Altstadt zu finden sein. Liebevoll dekorierte Stände l
 aden die Besucher zu einem gemütlichen Spaziergang durch die\nromantische
  Altstadt ein\, begleitet von weihnachtlichen Ambiente und den verführeri
 schen Düften.\nAn beiden Veranstaltungstagen finden sie in der St. Emmera
 m-Kirche das „Spalter Kripperla“. In der Alten Rathausgasse ist wieder
  der Erzählkeller geöffnet. Unser\nKinderkarussell mit angrenzender Wint
 erbar und stimmungsvollem Lagerfeuer laden zum Verweilen am Gabrieliplatz 
 ein. Unsere Gesangs- und Posaunenchöre stimmen Sie an beiden Tagen in der
  Erlebniswelt HopfenBierGut mit kostenlosen Konzerten ein.\n\nAuf der Büh
 ne am Gabrieliplatz findet am Samstag um 18.00 Uhr die Begrüßung durch d
 en 1. Bürgermeister Udo Weingart. Der Nikolaus mit Knecht Ruprecht besche
 rt die Kinder während eines Stadtrundganges.\nDer Bürgergarten bei der H
 errengasse 10 wird auch heuer wieder mit Ausstellern\, Künstlern und Mitm
 ach-Aktionen belebt. In der Bücherei kann in der Zeit des Weihnachtsmarkt
 es\ngemalt und gebastelt werden. Die Öffnungszeiten für Bürgergarten un
 d Bücherei sind hier 1 Stunde kürzer.\nDas komplette Programm mit allen 
 unseren Ausstellern finden Sie unter www.spalterweihnachtsmarkt.de und in 
 gedruckter Form ab Mitte November im HopfenBierGut und im Einzelhandel in 
 Spalt &amp\; Umgebung.\nFür Ihre Anreise mit den öffentlichen Verkehrsmi
 tteln bieten wir einen kostenlosen zusätzlichen Busshuttle vom Bahnhof Ge
 orgensgmünd nach Spalt an.\nFür Ihre Anreise mit dem PKW bieten wir Ihne
 n ebenso einen kostenlosen Busshuttle vom Großparkplatz Enderndorf (Am Ig
 elsbachsee 1) an.\n\nDie Zeiten entnehmen Sie ebenso auf unserer Internetp
 räsenz.\nUnter unserem Infotelefon 09175 – 79 65 50 oder per Email info
 @hopfenbiergut.de stehen wir Ihnen für Rückfragen zur Verfügung.\n\nWir
  freuen uns auf Ihren Besuch und wünschen Ihnen eine schöne Adventszeit!
CATEGORIES:Markt
LOCATION:Altstadt (Spalt)\, Ortsmitte\, Spalt\, 91174\, Deutschland
X-APPLE-STRUCTURED-LOCATION;VALUE=URI;X-ADDRESS=Ortsmitte\, Spalt\, 91174\,
  Deutschland;X-APPLE-RADIUS=100;X-TITLE=Altstadt (Spalt):geo:0,0
END:VEVENT
END:VCALENDAR