BEGIN:VCALENDAR
VERSION:2.0
PRODID:-//wp-events-plugin.com//7.2.3.1//EN
BEGIN:VEVENT
UID:83@meinseenland.de
DTSTART:20250706T063000Z
DTEND:20250706T235900Z
DTSTAMP:20250630T083526Z
URL:https://www.meinseenland.de/events/datev-challenge-roth-triathlon-2025
 /
SUMMARY:DATEV-CHALLENGE Roth Triathlon 2025
DESCRIPTION:Mit rund 3.400 Einzelstartern und 650 Staffeln aus über 60 Nat
 ionen\, einem Top-Starterfeld und rund 260.000 erwarteten Zuschauern entla
 ng der Wettkampfstrecken wird der DATEV Challenge Roth\, die weltgrößte 
 Triathlon-Veranstaltung auf der Langdistanz\, im fränkischen Roth ausgetr
 agen. Der Wettkampf startet mit 3\,8 km Schwimmen im Main-Donau-Kanal\, se
 tzt sich fort mit einem Radrennen über 180 km und einem abschließenden M
 arathon über 42 km.
CATEGORIES:Sportevent
LOCATION:https://www.challenge-roth.com/de/
END:VEVENT
END:VCALENDAR