BEGIN:VCALENDAR
VERSION:2.0
PRODID:-//wp-events-plugin.com//7.2.3.1//EN
BEGIN:VEVENT
UID:100@meinseenland.de
DTSTART:20250720T190000Z
DTEND:20250720T235900Z
DTSTAMP:20250709T133345Z
URL:https://www.meinseenland.de/events/cro-cronicles-open-air-2025/
SUMMARY:CRO – CRONICLES OPEN AIR 2025
DESCRIPTION:CRO – CRONICLES OPEN AIR 2025\nDie CRONICLES Tour 2025 setzt 
 jetzt schon ganz neue Maßstäbe: Ausverkaufte\nArenen\, eine neue spektak
 uläre Show und hunderttausende Fans\, die alle nur eins\nwollen: CRO Live
  erleben. Obwohl die CRONICLES Tour 2025 noch nicht begonnen\nhat\, setzt 
 der Rapper bereits jetzt schon einen drauf.\nIm Sommer 2025 geht der 34-J
 ährige auf große CRONICLES Open Air Tour und\npräsentiert seine Hits au
 s allen Alben mit einer unvergesslichen Show-Experience in\nden größten 
 Open-Air-Venues Deutschlands\, Österreichs und der Schweiz. Hits-\nOnly c
 ertified!\nCRO nimmt die Fans mit auf einen Trip durch seine über zehn Ja
 hre andauernde\nKarriere und präsentiert mit einer throw-back Show das Be
 ste seiner aus fünf\nNummer-1-Alben bestehenden Diskografie. Von den Anf
 ängen mit der legendären\nPanda-Maske mit Releases wie dem revolutionär
 en „EASY“-Mixtape und dem\ngenreprägenden Debüt „King of Raop“\,
  sowie dem Nachfolger „Melodie“\, über\nexperimentelle Releases wie 
 „tru.“. Nicht zu vergessen das Doppel-Album „Trip“\noder der Neube
 ginn mit „11:11“ in 2022 und der Spacejam EP in 2023. Zwölf Jahre\,\n
 drei Masken und ein Querschnitt durch die bisherigen\nChapter von einem de
 r kreativsten Künstler\, die dieses Land gesehen hat\, der noch\nlange ni
 cht ans Aufhören denkt.\nDie CRONICLES Open Air Tour reiht sich dabei nah
 tlos in die bisherigen Live-\nHappenings von CRO ein. Sei es die „11:11
 “-Open-Air-Tour 2023\, die auf und abseits\nder Bühne mit Hilfe von Aug
 mented Reality ein völlig neues Event-Erlebnis kreierte\,\noder sein lege
 ndäres MTV Unplugged\, das nicht nur auf Platz 1 der Charts einstieg\,\ns
 ondern mittlerweile auch mit Platin ausgezeichnet wurde.\nEinmal mehr der 
 Beweis\, dass der Impact von CRO bis heute anhält. Genau wie sein\nRuf al
 s Ausnahmekünstler\, der nicht nur ein Händchen für eingängige Rap-Son
 gs\nmit Refrains\, sondern echte Hits wie „Traum“\, „Bye Bye“\, od
 er „Einmal um die Welt“\nhat. Hymnen\, die ins Ohr gingen und dort geb
 lieben sind. Genau wie die fünf\nSoloalben in Folge auf der Eins\, 29 Mal
  Gold und 25 Mal Platin in Deutschland\,\nÖsterreich und der Schweiz.\nTi
 ckets gibt es ab dem 17. September unter www.cro-tickets.de.
CATEGORIES:Konzert/Festival
LOCATION:Strandbad Enderndorf\, Am Seegelhafen 2\, Enderndorf am See\, 9117
 4\, Deutschland
X-APPLE-STRUCTURED-LOCATION;VALUE=URI;X-ADDRESS=Am Seegelhafen 2\, Enderndo
 rf am See\, 91174\, Deutschland;X-APPLE-RADIUS=100;X-TITLE=Strandbad Ender
 ndorf:geo:0,0
END:VEVENT
END:VCALENDAR