BEGIN:VCALENDAR
VERSION:2.0
PRODID:-//wp-events-plugin.com//7.2.3.1//EN
BEGIN:VEVENT
UID:125@meinseenland.de
DTSTART:20251004T190000Z
DTEND:20251004T230000Z
DTSTAMP:20250929T151510Z
URL:https://www.meinseenland.de/events/bauerntag-2025/
SUMMARY:Bauerntag 2025
DESCRIPTION:Am Samstag\, den 04. Oktober 2025 Festplatz (zum Schießwasen 9
 ) in Gunzenhausen.\nBeginn: 20:00 Uhr - Einlass: 19:00 Uhr\n\nHerr Staatsm
 inister Hubert Aiwanger spricht zum Thema '"Welche Rolle spielt die Landwi
 rtschaft in Bayern für eine lebenswerte Zukunft?"\n\nAlle Bäuerinnen\, B
 auern und die gesamte Bevölkerung sind herzlich eingeladen!
CATEGORIES:Sonstiges Event
LOCATION:Zum Schießwasen (Gunzenhausen)\, Zum Schießwasen\, Gunzenhausen\
 , 91710\, Deutschland
X-APPLE-STRUCTURED-LOCATION;VALUE=URI;X-ADDRESS=Zum Schießwasen\, Gunzenha
 usen\, 91710\, Deutschland;X-APPLE-RADIUS=100;X-TITLE=Zum Schießwasen (Gu
 nzenhausen):geo:0,0
END:VEVENT
END:VCALENDAR