BEGIN:VCALENDAR
VERSION:2.0
PRODID:-//wp-events-plugin.com//7.2.3.1//EN
BEGIN:VEVENT
UID:166@meinseenland.de
DTSTART:20260314T180000Z
DTEND:20260314T234500Z
DTSTAMP:20260227T121721Z
URL:https://www.meinseenland.de/events/bar-rothation/
SUMMARY:Bar-ROTHation
DESCRIPTION:Seit 2014 zieht die „Bar-ROTHation“ im ersten Quartal des J
 ahres die feierlustigen Kreisstädter in die Rother Innenstadt. Nachdem di
 e neunte Auflage des beliebten Kneipenfestivals ein großer Erfolg war\, f
 reuen wir uns schon darauf im Jahr 2025 das 10. Jubiläum zu feiern. So fr
 euen sich die Stadt Roth und der Veranstalter 1Agency\nAm Samstag\, 14. M
 ärz 2026 bietet die Bar-ROTHation Musikfans und Feierwilligen eine bun
 te Auswahl aus allen möglichen Musikgenres. Verschiedenste Bars und Kneip
 en im Innenstadtgebiet garantieren ab 20:00 Uhr beste Stimmung mit noch me
 hr Live-Acts und exzellenten DJs.\nAb 18:00 Uhr sorgt\, wie gewohnt\, die
  Warm-Up-Party auf dem Rother Marktplatz mit Foodtrucks und Musik für d
 en richtigen Einstieg in den Abend.\nEinmal bezahlen und überall dabei se
 in: Der Eintritt für alle Locations kostet zehn Euro im Vorverkauf (bis 
 13.03. erhältlich) und zwölf Euro an der Abendkasse. Die Bändchen sind 
 in den u.g. Vorverkaufsstellen erhältlich. Der Einlass wird ab 18 Jahren 
 gewährt.
CATEGORIES:Bar/Kneipe
LOCATION:Marktplatz Roth\, Hauptstraße\, Roth\, 91154\, Deutschland
X-APPLE-STRUCTURED-LOCATION;VALUE=URI;X-ADDRESS=Hauptstraße\, Roth\, 91154
 \, Deutschland;X-APPLE-RADIUS=100;X-TITLE=Marktplatz Roth:geo:0,0
END:VEVENT
END:VCALENDAR