BEGIN:VCALENDAR
VERSION:2.0
PRODID:-//wp-events-plugin.com//7.2.3.1//EN
BEGIN:VEVENT
UID:69@meinseenland.de
DTSTART:20250619T200000Z
DTEND:20250619T230000Z
DTSTAMP:20250616T075935Z
URL:https://www.meinseenland.de/events/altmuehlsee-festspiele-woyzeck-prem
 iere/
SUMMARY:Altmühlsee Festspiele "Woyzeck" Premiere
DESCRIPTION:von Georg Büchner »Der Mensch ist ein Abgrund\, es schwindelt
  einem\, wenn man hinabsieht.« Woyzeck ist ein Außenseiter: finanziell a
 n den untersten Rand der Gesellschaft gedrängt\, von Vorgesetzten gedemü
 tigt\, von der Wissenschaft als Studienobjekt missbraucht. Er tut alles\, 
 um seine Geliebte Marie und ihr Kind durchzubringen. Als Marie sich vor de
 m von Wahnvorstellungen geplagten Woyzeck in die Arme des Tambourmajors fl
 üchtet\, verliert Woyzeck den letzten Halt in seinem Leben ... Büchners 
 Bühnenfragment aus dem Jahr 1836 basiert auf dem Fall des Soldaten Woyzec
 k\, der seine Geliebte erstach und dafür 1824 zum Tode verurteilt wurde. 
 Das poetische und bildgewaltige Werk gehört zu den einflussreichsten Dram
 en der deutschen Literatur ? und erzählt immer wieder neu von einer Gesel
 lschaft\, die so menschenfeindlich eingerichtet ist\, dass sie ihre eigene
 n Monster schafft. mit Anne Distler\, Conny Rockenschuh\, Ellen Kießling-
 Kretz\, Harald Molocher\, Tina Münch\, Alexander Schmiedel\, Hagen Ullman
 n und Alexander Wagner Musik: Conny Rockenschuh Regie: Harald Molocher Emp
 fohlen ab 12 Jahren\n\nEintrittspreise\n\n26\,-- €\,\nerm. 24\,--\,\nSch
 üler\, Studenten und Begleitpersonen 17\,-- €\n\n\n\nWeitere Informatio
 nen &gt\;&gt\;hier&lt\;&lt\;
ATTACH;FMTTYPE=image/jpeg:https://www.meinseenland.de/wp-content/uploads/2
 025/06/Woyzeck-©Klaus-Schraeder-e1750060616535.jpg
CATEGORIES:Theater
LOCATION:Altmühlsee- Informationszentrum\, Schloßstraße 4\, Muhr am See\
 , 91735\, Deutschland
X-APPLE-STRUCTURED-LOCATION;VALUE=URI;X-ADDRESS=Schloßstraße 4\, Muhr am 
 See\, 91735\, Deutschland;X-APPLE-RADIUS=100;X-TITLE=Altmühlsee- Informat
 ionszentrum:geo:0,0
END:VEVENT
END:VCALENDAR