BEGIN:VCALENDAR
VERSION:2.0
PRODID:-//wp-events-plugin.com//7.2.3.1//EN
BEGIN:VEVENT
UID:110@meinseenland.de
DTSTART:20250823T190000Z
DTEND:20250823T235900Z
DTSTAMP:20250814T131153Z
URL:https://www.meinseenland.de/events/altmuehlsee-festival-2025/
SUMMARY:Altmühlsee-Festival 2025
DESCRIPTION:Es bebt der See! Altmühlsee-Festival 2025 am Samstag\, 23. Aug
 ust.\n\n Wenn musikbegeisterte Wasserfreunde oder wasserbegeisterte Musik
 freunde auf gute Laune und tolle Töne treffen\, dann schlägt die Zeit de
 s beliebten Altmühlsee-Festivals. Das Musikfest an den Ufern des Altmühl
 sees verspricht ein Seebeben der Extraklasse. Am Samstag\, 23. August 2025
 \, wird ab 19 Uhr wieder festivalmäßig gerockt\, getanzt und gesungen. U
 nd das an fünf unterschiedlichen Locations rund um den Altmühlsee.\n\nHi
 er ist wirklich für jeden Musikgeschmack etwas dabei.\n\nInformationen zu
  den Bands:\n\nSharks - Seezentrum Schlungenhof\n\nCash - Surfzentrum Schl
 ungenhof\n\nThe Confederates - Seezentrum Muhr am See\n\nChristl &amp\; th
 e Sessionclub - Seezentrum Wald\n\nAcousticRub - Freizeitanlage Mörsach\n
 \n&nbsp\;\n\nAuch mit dabei ist unser Fahrgastschiff "Betty"\, das die Be
 sucher von Seezentrum zu Seezentrum schippert. Der Shuttlebus startet ab
  18:50 Uhr am Bahnhof in Gunzenhausen und tourt im Stundentakt zu den einz
 elnen Locations. Für die Fahrt mit BUS und SCHFF wird ein Festivalbändch
 en benötigt. Die Festivalbändchen gibt es für 5 Euro an jedem Seezentru
 m rund um den Altmühlsee\, in der Tourist-Info der Stadt Gunzenhausen und
  beim Zweckverband Altmühlsee.
CATEGORIES:Konzert/Festival,Sonstiges Event
LOCATION:Altmühlsee\, Altmühlsee\, kein fester Ort\, Deutschland
X-APPLE-STRUCTURED-LOCATION;VALUE=URI;X-ADDRESS=Altmühlsee\, kein fester O
 rt\, Deutschland;X-APPLE-RADIUS=100;X-TITLE=Altmühlsee:geo:0,0
END:VEVENT
END:VCALENDAR