BEGIN:VCALENDAR
VERSION:2.0
PRODID:-//wp-events-plugin.com//7.2.3.1//EN
BEGIN:VEVENT
UID:168@meinseenland.de
DTSTART:20260329T110000Z
DTEND:20260329T170000Z
DTSTAMP:20260227T121843Z
URL:https://www.meinseenland.de/events/aktionstag-von-der-burg-zur-stadt/
SUMMARY:Aktionstag "Von der Burg zur Stadt"
DESCRIPTION:Am Rundweg "Von der Burg zur Stadt" werden verschiedene Aktione
 n angeboten. Burgführungen\, Eröffnung der Sonderausstellung im Burgmuse
 um\, Bastelangebote und Aktivitäten für Kinder\, Besuch Burgmuseum und K
 löppelmuseum u. v. m.
CATEGORIES:Sonstiges Event
LOCATION:Burgmuseum Abenberg\, Burgstraße 16\, Abenberg\, 91183\, Deutschl
 and
X-APPLE-STRUCTURED-LOCATION;VALUE=URI;X-ADDRESS=Burgstraße 16\, Abenberg\,
  91183\, Deutschland;X-APPLE-RADIUS=100;X-TITLE=Burgmuseum Abenberg:geo:0,
 0
END:VEVENT
END:VCALENDAR