BEGIN:VCALENDAR
VERSION:2.0
PRODID:-//wp-events-plugin.com//7.2.3.1//EN
BEGIN:VEVENT
UID:135@meinseenland.de
DTSTART:20251028T000000Z
DTEND:20251030T000000Z
DTSTAMP:20251030T151452Z
URL:https://www.meinseenland.de/events/adventsdorf-wassertruedingen/
SUMMARY:Adventsdorf Wassertrüdingen
DESCRIPTION:Die Stimme des Christkinds und der Gesang vieler Kindergartenki
 nder bedeuten: Das Trüdinger Adventsdorf ist eröffnet! Viele Menschen la
 uschen dem Bühnenprogramm\, dann folgt ein Bummel von Bude zu Bude. Viele
  Buden laden zu einem Schlendern von Stand zu Stand ein. Handgefertigte Di
 nge aus Holz\, Ton\, Wolle und vielem mehr werden als Weihnachtsgeschenk a
 ngeboten.\nDas Essens- und Getränkeangebot stammt von regionalen Betriebe
 n und Vereinen. Jeder legt viel Herzblut\, Zeit und Kraft in die Planung u
 nd Durchführung des Adventsdorfs. Somit wird das Wochenende besonders und
  lädt zur Einstimmung auf die Adventszeit und Weihnachten ein.
CATEGORIES:Markt
LOCATION:Marktstraße Wassertrüdingen\, Marktstraße \, Wassertrüdingen\,
  91717\, Deutschland
X-APPLE-STRUCTURED-LOCATION;VALUE=URI;X-ADDRESS=Marktstraße \, Wassertrüd
 ingen\, 91717\, Deutschland;X-APPLE-RADIUS=100;X-TITLE=Marktstraße Wasser
 trüdingen:geo:0,0
END:VEVENT
END:VCALENDAR