BEGIN:VCALENDAR
VERSION:2.0
PRODID:-//wp-events-plugin.com//7.2.3.1//EN
BEGIN:VEVENT
UID:107@meinseenland.de
DTSTART:20250809T183000Z
DTEND:20250809T235900Z
DTSTAMP:20250731T114806Z
URL:https://www.meinseenland.de/events/1-spalter-metal-open-air-am-bahnhof
 /
SUMMARY:1. Spalter Metal open Air am Bahnhof
DESCRIPTION:Metal open Air am Bahnhof\nIm August verwandelt sich der Bahnda
 mm rund um den Kulturbahnhof in einen kraftvollen Schauplatz für\nMetal-F
 ans! Das erste Spalter Metallopenair bietet eine aufregende Bühne für re
 gionale Bands\, die mit\ndröhnenden Gitarrenriffs und mitreißenden Beats
  die Menge begeistern werden. Erleben Sie einen Tag\nvoller Live-Musik\, k
 ulinarischer Köstlichkeiten und einer energiegeladenen Atmosphäre.\n\nTi
 ckets &amp\; Info\n\n\nEintrittspreise\n\nRegulär: 18\,- €\nErmäßigt
 : 16\,- €\nAbendkasse 22 Euro\n\n
CATEGORIES:Konzert/Festival
LOCATION:Kulturbahnhof Spalt\, Rother Straße 13\, Spalt\, 91174\, Deutschl
 and
X-APPLE-STRUCTURED-LOCATION;VALUE=URI;X-ADDRESS=Rother Straße 13\, Spalt\,
  91174\, Deutschland;X-APPLE-RADIUS=100;X-TITLE=Kulturbahnhof Spalt:geo:0,
 0
END:VEVENT
END:VCALENDAR